BEGIN:VCALENDAR
VERSION:2.0
PRODID:-//www.Rons-Home.net//Ron's Home Calendar 1.0//EN
BEGIN:VEVENT
DTSTAMP:20260414T010012Z
DTSTART;VALUE=DATE:20260416
DTEND;VALUE=DATE:20260417
UID:what_makes_a_good_friend-84-554-34@rons-home.net
SUMMARY;LANGUAGE=contact:What Makes A Good Friend #34
DESCRIPTION;LANGUAGE=contact:Being okay with agreeing to disagree over a 
 given topic while continuing to focus on what is common between friends
CLASS:PUBLIC
CATEGORIES:PERSONAL GROWTH,www.Rons-Home.net
STATUS:CONFIRMED
URL;VALUE=URI:https://rons-home.net/en/living-life-lab/personal-growth/wh
 at-makes-a-good-friend/answer-of-the-day/2026/4/16
TRANSP:TRANSPARENT
ORGANIZER:www.Rons-Home.net
CONTACT:info@rons-home.net
CREATED:20260414T010012Z
LAST-MODIFIED:20260414T010012Z
SEQUENCE:1
PRIORITY:1
END:VEVENT
BEGIN:VEVENT
DTSTAMP:20260415T010008Z
DTSTART;VALUE=DATE:20260417
DTEND;VALUE=DATE:20260418
UID:what_makes_a_good_friend-85-555-9@rons-home.net
SUMMARY;LANGUAGE=contact:What Makes A Good Friend #9
DESCRIPTION;LANGUAGE=contact:Remains calm when a misunderstanding has occ
 urred
CLASS:PUBLIC
CATEGORIES:PERSONAL GROWTH,www.Rons-Home.net
STATUS:CONFIRMED
URL;VALUE=URI:https://rons-home.net/en/living-life-lab/personal-growth/wh
 at-makes-a-good-friend/answer-of-the-day/2026/4/17
TRANSP:TRANSPARENT
ORGANIZER:www.Rons-Home.net
CONTACT:info@rons-home.net
CREATED:20260415T010009Z
LAST-MODIFIED:20260415T010009Z
SEQUENCE:1
PRIORITY:1
END:VEVENT
BEGIN:VEVENT
DTSTAMP:20260416T010008Z
DTSTART;VALUE=DATE:20260418
DTEND;VALUE=DATE:20260419
UID:what_makes_a_good_friend-86-556-4@rons-home.net
SUMMARY;LANGUAGE=contact:What Makes A Good Friend #4
DESCRIPTION;LANGUAGE=contact:Being curious about their friends interests 
 and abilities
CLASS:PUBLIC
CATEGORIES:PERSONAL GROWTH,www.Rons-Home.net
STATUS:CONFIRMED
URL;VALUE=URI:https://rons-home.net/en/living-life-lab/personal-growth/wh
 at-makes-a-good-friend/answer-of-the-day/2026/4/18
TRANSP:TRANSPARENT
ORGANIZER:www.Rons-Home.net
CONTACT:info@rons-home.net
CREATED:20260416T010008Z
LAST-MODIFIED:20260416T010008Z
SEQUENCE:1
PRIORITY:1
END:VEVENT
BEGIN:VEVENT
DTSTAMP:20260417T010009Z
DTSTART;VALUE=DATE:20260419
DTEND;VALUE=DATE:20260420
UID:what_makes_a_good_friend-87-557-33@rons-home.net
SUMMARY;LANGUAGE=contact:What Makes A Good Friend #33
DESCRIPTION;LANGUAGE=contact:Is willing to say sorry to acknowledge hurt 
 or misunderstanding they caused
CLASS:PUBLIC
CATEGORIES:PERSONAL GROWTH,www.Rons-Home.net
STATUS:CONFIRMED
URL;VALUE=URI:https://rons-home.net/en/living-life-lab/personal-growth/wh
 at-makes-a-good-friend/answer-of-the-day/2026/4/19
TRANSP:TRANSPARENT
ORGANIZER:www.Rons-Home.net
CONTACT:info@rons-home.net
CREATED:20260417T010010Z
LAST-MODIFIED:20260417T010010Z
SEQUENCE:1
PRIORITY:1
END:VEVENT
BEGIN:VEVENT
DTSTAMP:20260418T010009Z
DTSTART;VALUE=DATE:20260420
DTEND;VALUE=DATE:20260421
UID:what_makes_a_good_friend-88-558-7@rons-home.net
SUMMARY;LANGUAGE=contact:What Makes A Good Friend #7
DESCRIPTION;LANGUAGE=contact:Being accepting of you when you are sharing 
 your vulnerabilities
CLASS:PUBLIC
CATEGORIES:PERSONAL GROWTH,www.Rons-Home.net
STATUS:CONFIRMED
URL;VALUE=URI:https://rons-home.net/en/living-life-lab/personal-growth/wh
 at-makes-a-good-friend/answer-of-the-day/2026/4/20
TRANSP:TRANSPARENT
ORGANIZER:www.Rons-Home.net
CONTACT:info@rons-home.net
CREATED:20260418T010009Z
LAST-MODIFIED:20260418T010009Z
SEQUENCE:1
PRIORITY:1
END:VEVENT
BEGIN:VEVENT
DTSTAMP:20260419T010009Z
DTSTART;VALUE=DATE:20260421
DTEND;VALUE=DATE:20260422
UID:what_makes_a_good_friend-89-559-22@rons-home.net
SUMMARY;LANGUAGE=contact:What Makes A Good Friend #22
DESCRIPTION;LANGUAGE=contact:Feels comforting to spend time together
CLASS:PUBLIC
CATEGORIES:PERSONAL GROWTH,www.Rons-Home.net
STATUS:CONFIRMED
URL;VALUE=URI:https://rons-home.net/en/living-life-lab/personal-growth/wh
 at-makes-a-good-friend/answer-of-the-day/2026/4/21
TRANSP:TRANSPARENT
ORGANIZER:www.Rons-Home.net
CONTACT:info@rons-home.net
CREATED:20260419T010009Z
LAST-MODIFIED:20260419T010009Z
SEQUENCE:1
PRIORITY:1
END:VEVENT
BEGIN:VEVENT
DTSTAMP:20260420T010006Z
DTSTART;VALUE=DATE:20260422
DTEND;VALUE=DATE:20260423
UID:what_makes_a_good_friend-90-560-29@rons-home.net
SUMMARY;LANGUAGE=contact:What Makes A Good Friend #29
DESCRIPTION;LANGUAGE=contact:Has expectations of you that are reasonable 
 while challenging you to grow as a person
CLASS:PUBLIC
CATEGORIES:PERSONAL GROWTH,www.Rons-Home.net
STATUS:CONFIRMED
URL;VALUE=URI:https://rons-home.net/en/living-life-lab/personal-growth/wh
 at-makes-a-good-friend/answer-of-the-day/2026/4/22
TRANSP:TRANSPARENT
ORGANIZER:www.Rons-Home.net
CONTACT:info@rons-home.net
CREATED:20260420T010006Z
LAST-MODIFIED:20260420T010006Z
SEQUENCE:1
PRIORITY:1
END:VEVENT
BEGIN:VEVENT
DTSTAMP:20260421T010012Z
DTSTART;VALUE=DATE:20260423
DTEND;VALUE=DATE:20260424
UID:what_makes_a_good_friend-91-561-20@rons-home.net
SUMMARY;LANGUAGE=contact:What Makes A Good Friend #20
DESCRIPTION;LANGUAGE=contact:Doesn't live in a fantasy world
CLASS:PUBLIC
CATEGORIES:PERSONAL GROWTH,www.Rons-Home.net
STATUS:CONFIRMED
URL;VALUE=URI:https://rons-home.net/en/living-life-lab/personal-growth/wh
 at-makes-a-good-friend/answer-of-the-day/2026/4/23
TRANSP:TRANSPARENT
ORGANIZER:www.Rons-Home.net
CONTACT:info@rons-home.net
CREATED:20260421T010013Z
LAST-MODIFIED:20260421T010013Z
SEQUENCE:1
PRIORITY:1
END:VEVENT
BEGIN:VEVENT
DTSTAMP:20260422T010010Z
DTSTART;VALUE=DATE:20260424
DTEND;VALUE=DATE:20260425
UID:what_makes_a_good_friend-92-562-3@rons-home.net
SUMMARY;LANGUAGE=contact:What Makes A Good Friend #3
DESCRIPTION;LANGUAGE=contact:Over time gains an understanding of how thei
 r friend engages in life
CLASS:PUBLIC
CATEGORIES:PERSONAL GROWTH,www.Rons-Home.net
STATUS:CONFIRMED
URL;VALUE=URI:https://rons-home.net/en/living-life-lab/personal-growth/wh
 at-makes-a-good-friend/answer-of-the-day/2026/4/24
TRANSP:TRANSPARENT
ORGANIZER:www.Rons-Home.net
CONTACT:info@rons-home.net
CREATED:20260422T010010Z
LAST-MODIFIED:20260422T010010Z
SEQUENCE:1
PRIORITY:1
END:VEVENT
END:VCALENDAR
