BEGIN:VCALENDAR
VERSION:2.0
PRODID:-//www.Rons-Home.net//Ron's Home Calendar 1.0//EN
BEGIN:VEVENT
DTSTAMP:20260414T010009Z
DTSTART;VALUE=DATE:20260416
DTEND;VALUE=DATE:20260417
UID:what_my_friends_mean_to_me-86-762-52@rons-home.net
SUMMARY;LANGUAGE=contact:What My Friends Mean To Me #52
DESCRIPTION;LANGUAGE=contact:My friends want what's best for me.
CLASS:PUBLIC
CATEGORIES:PERSONAL GROWTH,www.Rons-Home.net
STATUS:CONFIRMED
URL;VALUE=URI:https://rons-home.net/en/living-life-lab/personal-growth/wh
 at-my-friends-mean-to-me/answer-of-the-day/2026/4/16
TRANSP:TRANSPARENT
ORGANIZER:www.Rons-Home.net
CONTACT:info@rons-home.net
CREATED:20260414T010009Z
LAST-MODIFIED:20260414T010009Z
SEQUENCE:1
PRIORITY:1
END:VEVENT
BEGIN:VEVENT
DTSTAMP:20260415T010009Z
DTSTART;VALUE=DATE:20260417
DTEND;VALUE=DATE:20260418
UID:what_my_friends_mean_to_me-87-763-26@rons-home.net
SUMMARY;LANGUAGE=contact:What My Friends Mean To Me #26
DESCRIPTION;LANGUAGE=contact:My friends go the extra mile so I will be su
 ccessful in life.
CLASS:PUBLIC
CATEGORIES:PERSONAL GROWTH,www.Rons-Home.net
STATUS:CONFIRMED
URL;VALUE=URI:https://rons-home.net/en/living-life-lab/personal-growth/wh
 at-my-friends-mean-to-me/answer-of-the-day/2026/4/17
TRANSP:TRANSPARENT
ORGANIZER:www.Rons-Home.net
CONTACT:info@rons-home.net
CREATED:20260415T010009Z
LAST-MODIFIED:20260415T010009Z
SEQUENCE:1
PRIORITY:1
END:VEVENT
BEGIN:VEVENT
DTSTAMP:20260416T010010Z
DTSTART;VALUE=DATE:20260418
DTEND;VALUE=DATE:20260419
UID:what_my_friends_mean_to_me-88-764-78@rons-home.net
SUMMARY;LANGUAGE=contact:What My Friends Mean To Me #78
DESCRIPTION;LANGUAGE=contact:My friends let me lean on them when I am wea
 k.
CLASS:PUBLIC
CATEGORIES:PERSONAL GROWTH,www.Rons-Home.net
STATUS:CONFIRMED
URL;VALUE=URI:https://rons-home.net/en/living-life-lab/personal-growth/wh
 at-my-friends-mean-to-me/answer-of-the-day/2026/4/18
TRANSP:TRANSPARENT
ORGANIZER:www.Rons-Home.net
CONTACT:info@rons-home.net
CREATED:20260416T010010Z
LAST-MODIFIED:20260416T010010Z
SEQUENCE:1
PRIORITY:1
END:VEVENT
BEGIN:VEVENT
DTSTAMP:20260417T010010Z
DTSTART;VALUE=DATE:20260419
DTEND;VALUE=DATE:20260420
UID:what_my_friends_mean_to_me-89-765-14@rons-home.net
SUMMARY;LANGUAGE=contact:What My Friends Mean To Me #14
DESCRIPTION;LANGUAGE=contact:My friends and I make special memories toget
 her.
CLASS:PUBLIC
CATEGORIES:PERSONAL GROWTH,www.Rons-Home.net
STATUS:CONFIRMED
URL;VALUE=URI:https://rons-home.net/en/living-life-lab/personal-growth/wh
 at-my-friends-mean-to-me/answer-of-the-day/2026/4/19
TRANSP:TRANSPARENT
ORGANIZER:www.Rons-Home.net
CONTACT:info@rons-home.net
CREATED:20260417T010010Z
LAST-MODIFIED:20260417T010010Z
SEQUENCE:1
PRIORITY:1
END:VEVENT
BEGIN:VEVENT
DTSTAMP:20260418T010009Z
DTSTART;VALUE=DATE:20260420
DTEND;VALUE=DATE:20260421
UID:what_my_friends_mean_to_me-90-766-36@rons-home.net
SUMMARY;LANGUAGE=contact:What My Friends Mean To Me #36
DESCRIPTION;LANGUAGE=contact:My friends let me know I am not alone.
CLASS:PUBLIC
CATEGORIES:PERSONAL GROWTH,www.Rons-Home.net
STATUS:CONFIRMED
URL;VALUE=URI:https://rons-home.net/en/living-life-lab/personal-growth/wh
 at-my-friends-mean-to-me/answer-of-the-day/2026/4/20
TRANSP:TRANSPARENT
ORGANIZER:www.Rons-Home.net
CONTACT:info@rons-home.net
CREATED:20260418T010010Z
LAST-MODIFIED:20260418T010010Z
SEQUENCE:1
PRIORITY:1
END:VEVENT
BEGIN:VEVENT
DTSTAMP:20260419T000018Z
DTSTART;VALUE=DATE:20260421
DTEND;VALUE=DATE:20260422
UID:what_my_friends_mean_to_me-91-767-39@rons-home.net
SUMMARY;LANGUAGE=contact:What My Friends Mean To Me #39
DESCRIPTION;LANGUAGE=contact:My friends mean that I don't have to go thro
 ugh the hard times alone.
CLASS:PUBLIC
CATEGORIES:PERSONAL GROWTH,www.Rons-Home.net
STATUS:CONFIRMED
URL;VALUE=URI:https://rons-home.net/en/living-life-lab/personal-growth/wh
 at-my-friends-mean-to-me/answer-of-the-day/2026/4/21
TRANSP:TRANSPARENT
ORGANIZER:www.Rons-Home.net
CONTACT:info@rons-home.net
CREATED:20260419T000021Z
LAST-MODIFIED:20260419T000021Z
SEQUENCE:1
PRIORITY:1
END:VEVENT
BEGIN:VEVENT
DTSTAMP:20260420T010011Z
DTSTART;VALUE=DATE:20260422
DTEND;VALUE=DATE:20260423
UID:what_my_friends_mean_to_me-92-768-67@rons-home.net
SUMMARY;LANGUAGE=contact:What My Friends Mean To Me #67
DESCRIPTION;LANGUAGE=contact:My friends know the power of love and how to
  share their love with me.
CLASS:PUBLIC
CATEGORIES:PERSONAL GROWTH,www.Rons-Home.net
STATUS:CONFIRMED
URL;VALUE=URI:https://rons-home.net/en/living-life-lab/personal-growth/wh
 at-my-friends-mean-to-me/answer-of-the-day/2026/4/22
TRANSP:TRANSPARENT
ORGANIZER:www.Rons-Home.net
CONTACT:info@rons-home.net
CREATED:20260420T010011Z
LAST-MODIFIED:20260420T010011Z
SEQUENCE:1
PRIORITY:1
END:VEVENT
BEGIN:VEVENT
DTSTAMP:20260421T010014Z
DTSTART;VALUE=DATE:20260423
DTEND;VALUE=DATE:20260424
UID:what_my_friends_mean_to_me-93-769-63@rons-home.net
SUMMARY;LANGUAGE=contact:What My Friends Mean To Me #63
DESCRIPTION;LANGUAGE=contact:My friends don't make me feel small when I a
 m unsure and need to ask for input.
CLASS:PUBLIC
CATEGORIES:PERSONAL GROWTH,www.Rons-Home.net
STATUS:CONFIRMED
URL;VALUE=URI:https://rons-home.net/en/living-life-lab/personal-growth/wh
 at-my-friends-mean-to-me/answer-of-the-day/2026/4/23
TRANSP:TRANSPARENT
ORGANIZER:www.Rons-Home.net
CONTACT:info@rons-home.net
CREATED:20260421T010015Z
LAST-MODIFIED:20260421T010015Z
SEQUENCE:1
PRIORITY:1
END:VEVENT
BEGIN:VEVENT
DTSTAMP:20260422T010010Z
DTSTART;VALUE=DATE:20260424
DTEND;VALUE=DATE:20260425
UID:what_my_friends_mean_to_me-94-770-53@rons-home.net
SUMMARY;LANGUAGE=contact:What My Friends Mean To Me #53
DESCRIPTION;LANGUAGE=contact:My friends support me when I feel pain.
CLASS:PUBLIC
CATEGORIES:PERSONAL GROWTH,www.Rons-Home.net
STATUS:CONFIRMED
URL;VALUE=URI:https://rons-home.net/en/living-life-lab/personal-growth/wh
 at-my-friends-mean-to-me/answer-of-the-day/2026/4/24
TRANSP:TRANSPARENT
ORGANIZER:www.Rons-Home.net
CONTACT:info@rons-home.net
CREATED:20260422T010011Z
LAST-MODIFIED:20260422T010011Z
SEQUENCE:1
PRIORITY:1
END:VEVENT
END:VCALENDAR
